BEGIN:VCALENDAR
VERSION:2.0
METHOD:PUBLISH
BEGIN:VEVENT
DTSTART:20240604T160000Z
DTEND:20240604T170000Z
LOCATION:CHU Sainte-Justine, Amphithéâtre Justine-Lacoste-Beaubien, 3175, chemin Côte Sainte-Catherine, étage A bloc 9
TRANSP: OPAQUE
SEQUENCE:0
UID:
DTSTAMP:20260422T205930Z
SUMMARY:Réunion du Service de neurologie du CHUM
DESCRIPTION:Affiche ZOOM No. du Webinaire : 895 6572 9612
PRIORITY:1
CLASS:PUBLIC
BEGIN:VALARM
TRIGGER:-PT10080M
ACTION:DISPLAY
DESCRIPTION:Reminder
END:VALARM
END:VEVENT
END:VCALENDAR
